BEGIN:VCALENDAR
VERSION:2.0
PRODID:-//Sole Relax - ECPv4.5.13//NONSGML v1.0//EN
CALSCALE:GREGORIAN
METHOD:PUBLISH
X-WR-CALNAME:Sole Relax
X-ORIGINAL-URL:https://solerelax.it
X-WR-CALDESC:Events for Sole Relax
BEGIN:VEVENT
DTSTART;TZID=UTC+0:20230611T153000
DTEND;TZID=UTC+0:20230611T203000
DTSTAMP:20260423T142638
CREATED:20230606T091746Z
LAST-MODIFIED:20230606T091746Z
UID:5891-1686497400-1686515400@solerelax.it
SUMMARY:Beach Fun Cala de Or
DESCRIPTION:
URL:https://solerelax.it/event/beach-fun-cala-de-or-3/
LOCATION:Via Zamboni - Loc. Spiaggia d'Oro\, Desenzano del Garda\, Brescia\, 25015\, Italia
CATEGORIES:Bar Cala de Or
ATTACH;FMTTYPE=image/jpeg:https://solerelax.it/wp-content/uploads/2023/04/beach-fun-tutte-le-domeniche-a-Cala-de-Or-.jpg
END:VEVENT
BEGIN:VEVENT
DTSTART;TZID=UTC+0:20230611T163000
DTEND;TZID=UTC+0:20230611T203000
DTSTAMP:20260423T142638
CREATED:20230606T091048Z
LAST-MODIFIED:20230606T091048Z
UID:5884-1686501000-1686515400@solerelax.it
SUMMARY:Karaoke Bar al Parco Pastore
DESCRIPTION:
URL:https://solerelax.it/event/karaoke-bar-al-parco-pastore-11/
LOCATION:Viale Boschetti 8\, Castiglione Delle Stiviere\, Mantova\, 46043\, Italia
CATEGORIES:Bar al Parco
ATTACH;FMTTYPE=image/jpeg:https://solerelax.it/wp-content/uploads/2023/05/karaoke-giugno-2023-.jpg
END:VEVENT
END:VCALENDAR