BEGIN:VCALENDAR
VERSION:2.0
PRODID:-//Sole Relax - ECPv4.5.13//NONSGML v1.0//EN
CALSCALE:GREGORIAN
METHOD:PUBLISH
X-WR-CALNAME:Sole Relax
X-ORIGINAL-URL:https://solerelax.it
X-WR-CALDESC:Events for Sole Relax
BEGIN:VEVENT
DTSTART;TZID=UTC+0:20230604T150000
DTEND;TZID=UTC+0:20230604T200000
DTSTAMP:20260423T143656
CREATED:20230522T084447Z
LAST-MODIFIED:20230522T084447Z
UID:5860-1685890800-1685908800@solerelax.it
SUMMARY:Beach Fun Cala de Or
DESCRIPTION:
URL:https://solerelax.it/event/beach-fun-cala-de-or-2/
LOCATION:Via Zamboni - Loc. Spiaggia d'Oro\, Desenzano del Garda\, Brescia\, 25015\, Italia
CATEGORIES:Bar Cala de Or
ATTACH;FMTTYPE=image/jpeg:https://solerelax.it/wp-content/uploads/2023/04/beach-fun-tutte-le-domeniche-a-Cala-de-Or-.jpg
END:VEVENT
BEGIN:VEVENT
DTSTART;TZID=UTC+0:20230604T163000
DTEND;TZID=UTC+0:20230604T203000
DTSTAMP:20260423T143656
CREATED:20230522T121427Z
LAST-MODIFIED:20230522T121427Z
UID:5862-1685896200-1685910600@solerelax.it
SUMMARY:Karaoke Bar al Parco Pastore
DESCRIPTION:
URL:https://solerelax.it/event/karaoke-bar-al-parco-pastore-10/
LOCATION:Viale Boschetti 8\, Castiglione Delle Stiviere\, Mantova\, 46043\, Italia
CATEGORIES:Bar al Parco
ATTACH;FMTTYPE=image/jpeg:https://solerelax.it/wp-content/uploads/2023/05/karaoke-giugno-2023-.jpg
END:VEVENT
BEGIN:VEVENT
DTSTART;TZID=UTC+0:20230604T163000
DTEND;TZID=UTC+0:20230604T200000
DTSTAMP:20260423T143656
CREATED:20230530T091318Z
LAST-MODIFIED:20230530T091318Z
UID:5872-1685896200-1685908800@solerelax.it
SUMMARY:Live Sunday K.DES
DESCRIPTION:
URL:https://solerelax.it/event/live-sunday-k-des-4/
LOCATION:via Zanardelli\, Castiglione delle Stiviere\, Brescia\, 46043\, Italia
CATEGORIES:K.des Kiosco Desenzani
ATTACH;FMTTYPE=image/jpeg:https://solerelax.it/wp-content/uploads/2023/05/live-sunday-4-giugno-2023-.jpg
END:VEVENT
END:VCALENDAR