BEGIN:VCALENDAR
VERSION:2.0
PRODID:-//Sole Relax - ECPv4.5.13//NONSGML v1.0//EN
CALSCALE:GREGORIAN
METHOD:PUBLISH
X-WR-CALNAME:Sole Relax
X-ORIGINAL-URL:https://solerelax.it
X-WR-CALDESC:Events for Sole Relax
BEGIN:VEVENT
DTSTART;TZID=UTC+0:20230425T153000
DTEND;TZID=UTC+0:20230425T203000
DTSTAMP:20260423T172851
CREATED:20230414T134327Z
LAST-MODIFIED:20230414T134327Z
UID:5664-1682436600-1682454600@solerelax.it
SUMMARY:Special Beach Fun 25 Aprile - Cala de Or
DESCRIPTION:Special Beach Fun\nMartedì 25 Aprile dalle 15:30 ti aspettiamo in spiaggia a Cala de Or per lo Special Beach Fun\, l’aperitivo con Radio Show dj set sul Lago di Garda; precisamente a Desenzano del Garda\, loc. Spiaggia d’Oro. \nIn console Dj Skegia animerà l’aperitivo con la vostra playlist!\nLe vostre richieste musicali e dediche comporranno la scaletta per garantirvi la musica che vi piace di più!\nVieni a trovarci in via Zamboni a Desenzano del Garda BS e stai con noi già dal pranzo\, abbiamo tantissimi menu offerte per te tutti da provare!\nBeach Fun: l’aperitivo con una nota in più! \n
URL:https://solerelax.it/event/special-beach-fun/
LOCATION:Via Zamboni - Loc. Spiaggia d'Oro\, Desenzano del Garda\, Brescia\, 25015\, Italia
CATEGORIES:Bar Cala de Or
ATTACH;FMTTYPE=image/jpeg:https://solerelax.it/wp-content/uploads/2023/04/Special-Beach-Fun-25-aprile-Cala-de-Or.jpg
END:VEVENT
BEGIN:VEVENT
DTSTART;TZID=UTC+0:20230425T153000
DTEND;TZID=UTC+0:20230425T203000
DTSTAMP:20260423T172851
CREATED:20230414T140344Z
LAST-MODIFIED:20230414T140344Z
UID:5670-1682436600-1682454600@solerelax.it
SUMMARY:25 Aprile Bar al Parco Pastore - 70 80 90 Special
DESCRIPTION:
URL:https://solerelax.it/event/25-aprile-bar-al-parco-pastore-70-80-90-special/
LOCATION:Viale Boschetti 8\, Castiglione Delle Stiviere\, Mantova\, 46043\, Italia
CATEGORIES:Bar al Parco
ATTACH;FMTTYPE=image/jpeg:https://solerelax.it/wp-content/uploads/2023/04/25-Aprile-Bar-al-Parco-Pastore-70-80-90-special.jpg
END:VEVENT
BEGIN:VEVENT
DTSTART;TZID=UTC+0:20230425T153000
DTEND;TZID=UTC+0:20230425T203000
DTSTAMP:20260423T172851
CREATED:20230414T140708Z
LAST-MODIFIED:20230414T144206Z
UID:5673-1682436600-1682454600@solerelax.it
SUMMARY:Karaoke 25 Aprile - K.DES Kiosco Desenzani
DESCRIPTION:Karaoke 25 Aprile 2023 – K.DES Kiosco Desenzani\nKaraoke 25 Aprile 2023\, al K.DES Kiosco Desenzani di Castiglione delle Stiviere (MN) in via Zanardelli. \nTi aspettiamo Martedì 25 Aprile per il Karaoke con Dj Angela dalle 15:30!\nVieni a cantare con noi le tue canzoni preferite tra un’aperitivo e l’altro mentre i bambini giocano nell’area giochi del parco Desenzani con altalene\, scivoli e tanti altri giochi! \nSPIEDO\nResta con noi già dal pranzo\, non scordarti di prenotare il tuo spiedo allo 0376 67 1952 !!!\nDalle ore 13:00 con soli 18€ hai una porzione di spiedo con contorno e un bicchiere di vino Lugana o birra!\nNon perderti gli eventi di K.DES Kiosco Desenzani! Ti aspettiamo per sentirti cantare! \n
URL:https://solerelax.it/event/karaoke-25-aprile-k-des/
LOCATION:via Zanardelli\, Castiglione delle Stiviere\, Brescia\, 46043\, Italia
CATEGORIES:K.des Kiosco Desenzani
ATTACH;FMTTYPE=image/jpeg:https://solerelax.it/wp-content/uploads/2023/04/karaoke-25-aprile-con-spiedo-aggiornato-.jpg
END:VEVENT
END:VCALENDAR