BEGIN:VCALENDAR
VERSION:2.0
PRODID:-//Sole Relax - ECPv4.5.13//NONSGML v1.0//EN
CALSCALE:GREGORIAN
METHOD:PUBLISH
X-WR-CALNAME:Sole Relax
X-ORIGINAL-URL:https://solerelax.it
X-WR-CALDESC:Events for Sole Relax
BEGIN:VEVENT
DTSTART;TZID=UTC+0:20230410T150000
DTEND;TZID=UTC+0:20230410T203000
DTSTAMP:20260423T172718
CREATED:20230330T082330Z
LAST-MODIFIED:20230330T082330Z
UID:5640-1681138800-1681158600@solerelax.it
SUMMARY:Beach Fun 10 Aprile
DESCRIPTION:Beach Fun 10 Aprile 2023\nBeach Fun 10 Aprile\, Il lunedì di Pasquetta ti aspettiamo a Cala de Or per l’aperitivo con il Radio Show! \nL’unico Dj Set dove la playlist la fate voi con le vostre richieste musicali e dediche!\nStai con noi già dal pranzo con lo speciale Cheeseburger Menu: cheeseburger con patatine\, bibita o acqua ed una dolce sorpresa a soli 12€!\nOpzione con birra piccola a solo un’euro in più o birra media a solo due euro in più!\nTi aspettiamo in via Zamboni a Desenzano del Garda (BS)\, Località Spiaggia d’Oro.\nNon perderti gli eventi più belli del Lago di Garda! \n
URL:https://solerelax.it/event/beach-fun-10-aprile/
LOCATION:Via Zamboni - Loc. Spiaggia d'Oro\, Desenzano del Garda\, Brescia\, 25015\, Italia
CATEGORIES:Bar Cala de Or
ATTACH;FMTTYPE=image/jpeg:https://solerelax.it/wp-content/uploads/2023/03/beach-fun-10-aprile-2023-.jpg
END:VEVENT
BEGIN:VEVENT
DTSTART;TZID=UTC+0:20230410T153000
DTEND;TZID=UTC+0:20230410T193000
DTSTAMP:20260423T172718
CREATED:20230330T062711Z
LAST-MODIFIED:20230330T094842Z
UID:5628-1681140600-1681155000@solerelax.it
SUMMARY:KARAOKE PASQUETTA 2023
DESCRIPTION:Karaoke Pasquetta 2023\nKaraoke Pasquetta 2023\, Lunedì 10 Aprile a Bar al Parco Pastore di Castiglione delle Stiviere (MN) in viale Boschetti 8. \nTi aspettiamo per il Karaoke con Dj Angela dalle 15:30!\nVieni a cantare con noi le tue canzoni preferite tra un’aperitivo e l’altro mentre i bambini giocano nell’area giochi del bar o nel parco Pastore con altalene\, scivoli e tanti altri giochi! \nSPIEDO\nResta con noi già dal pranzo\, non scordarti di prenotare il tuo spiedo allo 0376 67 1952 !!!\nCon soli 15€ hai una porzione di 5 pezzi di spiedo con polenta e un bicchiere di vino Lugana o birra!\nNon perderti gli eventi di Bar al Parco Pastore! Ti aspettiamo per sentirti cantare! \n
URL:https://solerelax.it/event/karaoke-pasquetta-2023/
LOCATION:Viale Boschetti 8\, Castiglione Delle Stiviere\, Mantova\, 46043\, Italia
CATEGORIES:Bar al Parco
ATTACH;FMTTYPE=image/jpeg:https://solerelax.it/wp-content/uploads/2023/03/karaoke-pasquetta-2023.jpg
END:VEVENT
BEGIN:VEVENT
DTSTART;TZID=UTC+0:20230410T153000
DTEND;TZID=UTC+0:20230410T203000
DTSTAMP:20260423T172718
CREATED:20230330T100343Z
LAST-MODIFIED:20230330T100343Z
UID:5643-1681140600-1681158600@solerelax.it
SUMMARY:Musik and Food 10 Aprile
DESCRIPTION:Musik and Food 10 Aprile\nMusik and Food 10 Aprile 2023\, ti aspettiamo per la Pasquetta al K.DES Kiosco Desenzani\, dalle 15:30 con il live di Miscroma Duet. \nGRIGLIATA\nStai con noi già a pranzo\, prenota subito entro il 6 Aprile la tua gligliata al 370 316 2175. Solo Lunedì 10 Aprile per la Pasquetta hai grigliata\, contorno e bicchiere di vino o birra a soli 15 euro!\nIl K.DES è all’interno del Parco Desenzani\, ingresso da via Zanardelli – Castiglione delle Stiviere (MN). \n
URL:https://solerelax.it/event/musik-and-food-10-aprile/
LOCATION:via Zanardelli\, Castiglione delle Stiviere\, Brescia\, 46043\, Italia
CATEGORIES:K.des Kiosco Desenzani
ATTACH;FMTTYPE=image/jpeg:https://solerelax.it/wp-content/uploads/2023/03/musik-and-food-10-aprile-2023-.jpg
END:VEVENT
END:VCALENDAR