BEGIN:VCALENDAR
VERSION:2.0
PRODID:-//Sole Relax - ECPv4.5.13//NONSGML v1.0//EN
CALSCALE:GREGORIAN
METHOD:PUBLISH
X-WR-CALNAME:Sole Relax
X-ORIGINAL-URL:https://solerelax.it
X-WR-CALDESC:Events for Sole Relax
BEGIN:VEVENT
DTSTART;TZID=UTC+0:20221106T000000
DTEND;TZID=UTC+0:20221106T190000
DTSTAMP:20260424T014855
CREATED:20221104T155540Z
LAST-MODIFIED:20221104T155540Z
UID:5577-1667692800-1667761200@solerelax.it
SUMMARY:Remember Domenica Latina - Cala de Or
DESCRIPTION:Remember Domenica Latina\nDomenica 6 Novembre 2022 ti aspettiamo a Cala de Or per l’evento Remember Domenica Latina con la trippa per pranzo e la musica di Dj Teddy. \nTi aspettiamo dalle 12:00 a mangiare con noi in spiaggia la trippa con la meravigliosa vista del lago.\nE’ gradita la prenotazione al numero 342 306 4016.\nSiamo sempre in località Spiaggia d’Oro\, in via Zamboni a Desenzano del Garda! \n
URL:https://solerelax.it/event/remember-domenica-latina-cala-de-or/
LOCATION:Via Zamboni - Loc. Spiaggia d'Oro\, Desenzano del Garda\, Brescia\, 25015\, Italia
CATEGORIES:Bar Cala de Or
ATTACH;FMTTYPE=image/jpeg:https://solerelax.it/wp-content/uploads/2022/11/remember-domenica-latina-6-novembre-.jpg
END:VEVENT
BEGIN:VEVENT
DTSTART;TZID=UTC+0:20221106T150000
DTEND;TZID=UTC+0:20221106T190000
DTSTAMP:20260424T014855
CREATED:20221104T154653Z
LAST-MODIFIED:20221104T154653Z
UID:5574-1667746800-1667761200@solerelax.it
SUMMARY:Parco Live
DESCRIPTION:Parco Live\nDomenica 6 Novembre 2022 ti aspettiamo a Bar al Parco Pastore di Castiglione delle Stiviere MN per l’evento Parco Live con la musica degli Acoustic Kidz dalle ore 15:00! \nSiamo in viale Boschetti 8\, all’interno del parco Pastore! \n
URL:https://solerelax.it/event/parco-live/
LOCATION:Viale Boschetti 8\, Castiglione Delle Stiviere\, Mantova\, 46043\, Italia
CATEGORIES:Bar al Parco
ATTACH;FMTTYPE=image/jpeg:https://solerelax.it/wp-content/uploads/2022/11/parco-live-acoustic-kidz-6-novembre-.jpg
END:VEVENT
END:VCALENDAR