BEGIN:VCALENDAR
VERSION:2.0
PRODID:-//Sole Relax - ECPv4.5.13//NONSGML v1.0//EN
CALSCALE:GREGORIAN
METHOD:PUBLISH
X-WR-CALNAME:Sole Relax
X-ORIGINAL-URL:https://solerelax.it
X-WR-CALDESC:Events for Sole Relax
BEGIN:VEVENT
DTSTART;TZID=UTC+0:20221009T163000
DTEND;TZID=UTC+0:20221009T190000
DTSTAMP:20260424T032446
CREATED:20221005T065427Z
LAST-MODIFIED:20221005T065427Z
UID:5566-1665333000-1665342000@solerelax.it
SUMMARY:Live on the Beach - Miscroma Duet - Cala de Or
DESCRIPTION:Live on the Beach – Miscroma Duet – Cala de Or\nMiscroma Duet – Domenica 9 Ottobre ti aspettiamo in spiaggia a Cala de Or per un nuovo appuntamento con il Live on the beach! \nAnticipiamo l’aperitivo live dalle 16:30 con un duetto madre e figlia con piano e voce che si esibiranno per noi. \nCala de Or si trova in via Zamboni a Desenzano del Garda (BS)\, località Spiaggia D’Oro.\nSiamo proprio in spiaggia\, a due passi dal lago che è sempre una cornice spettacolare per i nostri live.\nPer informazioni chiamaci al numero 342 306 4016.\nNon mancare al Live on the Beach\, ogni Domenica di Ottobre a Cala de Or! \n
URL:https://solerelax.it/event/miscroma-duet/
LOCATION:Via Zamboni - Loc. Spiaggia d'Oro\, Desenzano del Garda\, Brescia\, 25015\, Italia
CATEGORIES:Bar Cala de Or
ATTACH;FMTTYPE=image/jpeg:https://solerelax.it/wp-content/uploads/2022/10/live-on-the-beach-miscroma-duet-cala-de-or-.jpg
END:VEVENT
BEGIN:VEVENT
DTSTART;TZID=UTC+0:20221009T170000
DTEND;TZID=UTC+0:20221009T193000
DTSTAMP:20260424T032446
CREATED:20221005T072737Z
LAST-MODIFIED:20221005T072737Z
UID:5570-1665334800-1665343800@solerelax.it
SUMMARY:Live Sunday - Cantautori Bresciani - K.DES
DESCRIPTION:Live Sunday – Cantautori Bresciani – K.DES\nDomenica 9 Ottobre al K.DES ti aspettiamo dalle 17:00 per recuperare l’evento rimandato il 25 Settembre: il Live Sunday\, l’aperitivo live con ben tre cantautori bresciani che si alterneranno con le loro canzoni.\nSi esibiranno per noi a turno Sergio Gritti\, Sam Delacroix e Bontempi\, con la loro voce esprimeranno se stessi nelle loro canzoni. \nIl Kiosco Desenzani si trova in via Zanardelli\, all’interno del Parco Desenzani di Castiglione delle Stiviere MN.\nNon perderti nessuna esibizione!\nPer informazioni chiamaci al 370 316 2175\, non mancare!\nSeguici anche su Facebook ed Instagram per non perderti nessun aggiornamento! \n
URL:https://solerelax.it/event/live-sunday-cantautori-bresciani-k-des/
LOCATION:via Zanardelli\, Castiglione delle Stiviere\, Brescia\, 46043\, Italia
CATEGORIES:K.des Kiosco Desenzani
ATTACH;FMTTYPE=image/jpeg:https://solerelax.it/wp-content/uploads/2022/10/live-sunday-cantautori-bresciani-9-ottobre-kdes.jpg
END:VEVENT
END:VCALENDAR