BEGIN:VCALENDAR
VERSION:2.0
PRODID:-//Sole Relax - ECPv4.5.13//NONSGML v1.0//EN
CALSCALE:GREGORIAN
METHOD:PUBLISH
X-WR-CALNAME:Sole Relax
X-ORIGINAL-URL:https://solerelax.it
X-WR-CALDESC:Events for Sole Relax
BEGIN:VEVENT
DTSTART;TZID=UTC+0:20221002T170000
DTEND;TZID=UTC+0:20221002T193000
DTSTAMP:20260424T031812
CREATED:20220928T131131Z
LAST-MODIFIED:20220928T131131Z
UID:5554-1664730000-1664739000@solerelax.it
SUMMARY:Live on the Beach - Acoustic Kidz - Cala de Or
DESCRIPTION:Live on the Beach – Acoustic Kidz – Cala de Or\nAcoustic Kidz – Domenica 2 Ottobre ti aspettiamo in spiaggia a Cala de Or per il Live on the beach\, dalle 17:00 aperitivo live con gli Acoustic Kidz! \nSiamo in via Zamboni a Desenzano del Garda (BS)\, località Spiaggia D’Oro.\nPer informazioni chiama il 342 306 4016. \n
URL:https://solerelax.it/event/acoustic-kidz/
LOCATION:Via Zamboni - Loc. Spiaggia d'Oro\, Desenzano del Garda\, Brescia\, 25015\, Italia
CATEGORIES:Bar Cala de Or
ATTACH;FMTTYPE=image/jpeg:https://solerelax.it/wp-content/uploads/2022/09/live-on-the-beach-acoustic-kidz-cala-de-or-.jpg
END:VEVENT
BEGIN:VEVENT
DTSTART;TZID=UTC+0:20221002T170000
DTEND;TZID=UTC+0:20221002T193000
DTSTAMP:20260424T031812
CREATED:20220928T132430Z
LAST-MODIFIED:20220928T132430Z
UID:5557-1664730000-1664739000@solerelax.it
SUMMARY:Live Sunday - Aperitivo Live - K.DES
DESCRIPTION:Live Sunday – Aperitivo Live – K.DES\nIl Live Sunday prosegue nonostante il maltempo ci abbia interrotto già qualche volta\, Domenica 2 Ottobre 2022 al K.DES di Castiglione delle Stiviere (MN): Aperitivo Live dalle 17:00.\nDurante l’evento ci sarà pizza e birra per tutti sempre a soli € 5\,50!\nUna promozione imperdibile per una Domenica fantastica nel verde del parco.\nIl Kiosco Desenzani si trova in via Zanardelli\, all’interno del Parco Desenzani di Castiglione delle Stiviere MN.\nNon perderti nessuna esibizione!\nE’ gradita la prenotazione al 370 316 2175\, assicurati il tuo posto prenotando subito!\nSeguici anche su Facebook ed Instagram per non perderti nessun aggiornamento! \n
URL:https://solerelax.it/event/aperitivo-live/
LOCATION:via Zanardelli\, Castiglione delle Stiviere\, Brescia\, 46043\, Italia
CATEGORIES:K.des Kiosco Desenzani
ATTACH;FMTTYPE=image/jpeg:https://solerelax.it/wp-content/uploads/2022/09/live-sunday-2-ottobre-kdes-kiosco-desenzani-cover-band-rock-italiano-.jpg
END:VEVENT
END:VCALENDAR