BEGIN:VCALENDAR
VERSION:2.0
PRODID:-//Sole Relax - ECPv4.5.13//NONSGML v1.0//EN
CALSCALE:GREGORIAN
METHOD:PUBLISH
X-WR-CALNAME:Sole Relax
X-ORIGINAL-URL:https://solerelax.it
X-WR-CALDESC:Events for Sole Relax
BEGIN:VEVENT
DTSTART;TZID=UTC+0:20220925T170000
DTEND;TZID=UTC+0:20220925T190000
DTSTAMP:20260424T050823
CREATED:20220921T134058Z
LAST-MODIFIED:20220921T134058Z
UID:5542-1664125200-1664132400@solerelax.it
SUMMARY:Live on the Beach - Cala de Or
DESCRIPTION:Live on the Beach – Cala de Or \nLive on the Beach\, Domenica 25 Settembre dalle 17:00 a Cala de Or aperitivo con sax e chitarra con Ruber Marani. \nCi trovi in via Zamboni\, località Spiaggia d’Oro di Desenzano del Garda (BS). \n
URL:https://solerelax.it/event/live-the-beach/
LOCATION:Via Zamboni - Loc. Spiaggia d'Oro\, Desenzano del Garda\, Brescia\, 25015\, Italia
CATEGORIES:Bar Cala de Or
ATTACH;FMTTYPE=image/jpeg:https://solerelax.it/wp-content/uploads/2022/09/live-on-the-beach-Cala-de-Or-.jpg
END:VEVENT
BEGIN:VEVENT
DTSTART;TZID=UTC+0:20220925T170000
DTEND;TZID=UTC+0:20220925T193000
DTSTAMP:20260424T050823
CREATED:20220921T150707Z
LAST-MODIFIED:20220921T150707Z
UID:5546-1664125200-1664134200@solerelax.it
SUMMARY:Live Sunday 25 Settembre - K.DES
DESCRIPTION:Live Sunday 25 Settembre\nLive Sunday 25 Settembre 2022\, questa Domenica a Castiglione: Aperitivo Live dalle 17:00 \nProsegue dopo due splendide Domeniche il Live Sunday con nuovi artisti\, vieni a conoscerli!\nDurante l’evento ci sarà pizza e birra per tutti sempre a soli € 5\,50!\nUna promozione imperdibile per una domenica fantastica nel verde del parco.\nIl Kiosco Desenzani si trova in via Zanardelli\, all’interno del Parco Desenzani di Castiglione delle Stiviere MN.\nNon perderti nessuna esibizione!\nE’ gradita la prenotazione al 370 316 2175\, assicurati il tuo posto prenotando subito!\nSeguici anche su Facebook ed Instagram per non perderti nessun aggiornamento! \n
URL:https://solerelax.it/event/live-sunday-25-settembre/
LOCATION:via Zanardelli\, Castiglione delle Stiviere\, Brescia\, 46043\, Italia
CATEGORIES:K.des Kiosco Desenzani
ATTACH;FMTTYPE=image/jpeg:https://solerelax.it/wp-content/uploads/2022/09/live-sunday-25-settembre-kdes.jpg
END:VEVENT
END:VCALENDAR