BEGIN:VCALENDAR
VERSION:2.0
PRODID:-//Sole Relax - ECPv4.5.13//NONSGML v1.0//EN
CALSCALE:GREGORIAN
METHOD:PUBLISH
X-WR-CALNAME:Sole Relax
X-ORIGINAL-URL:https://solerelax.it
X-WR-CALDESC:Events for Sole Relax
BEGIN:VEVENT
DTSTART;TZID=UTC+0:20170815T170000
DTEND;TZID=UTC+0:20170815T170000
DTSTAMP:20260425T014615
CREATED:20170803T121454Z
LAST-MODIFIED:20170803T121454Z
UID:4069-1502816400-1502816400@solerelax.it
SUMMARY:Watermelon Summer Party - Bar al Parco
DESCRIPTION:Watermelon Summer Party\nIl 15 Agosto trascorri un Ferragosto al Parco Pastore! Dalle 17:00 ottima musica da ballare con DJ Diego Frera in console; poi si cena al parco con pane e salame o pane e cotechino\, e molto altro! In serata anguria per tutti! Non mancare al Watermelon Summer Party\, tanto divertimento assicurato per tutti! Una grande festa e tante sorprese. Più siamo e più ci divertiamo\, quindi vi aspettiamo numerosi e pieni di energie per ballare! Ci trovi al Parco Pastore di Castiglione delle Stiviere (MN)\, in viale Boschetti.\nNon scordarti di controllare periodicamente il sito o seguire la pagina Facebook per essere sempre informato sui migliori eventi!\n
URL:https://solerelax.it/event/watermelon-summer-party/
LOCATION:Viale Boschetti 8\, Castiglione Delle Stiviere\, Mantova\, 46043\, Italia
CATEGORIES:Bar al Parco
ATTACH;FMTTYPE=image/jpeg:https://solerelax.it/wp-content/uploads/2017/08/watermelon-summer-party-orizz.jpg
END:VEVENT
END:VCALENDAR