BEGIN:VCALENDAR
VERSION:2.0
PRODID:-//Sole Relax - ECPv4.5.13//NONSGML v1.0//EN
CALSCALE:GREGORIAN
METHOD:PUBLISH
X-WR-CALNAME:Sole Relax
X-ORIGINAL-URL:https://solerelax.it
X-WR-CALDESC:Events for Sole Relax
BEGIN:VEVENT
DTSTART;TZID=UTC+0:20170524T160000
DTEND;TZID=UTC+0:20170524T160000
DTSTAMP:20260425T132252
CREATED:20170522T073213Z
LAST-MODIFIED:20170522T073213Z
UID:3887-1495641600-1495641600@solerelax.it
SUMMARY:Tagesmutter al Parco Pastore - Animazione per bambini
DESCRIPTION:Tagesmutter al Parco Pastore Animazione per bambini\nMercoledì 24 Maggio in collaborazione con l’associazione Bianconiglio tutti i bambini potranno divertirsi con laboratori creativi e molto altro. Ogni volta viene programmato un tema diverso per far divertire i bimbi. Potrete rilassarvi comodamente al bar mentre i vostri bambini giocheranno e impareranno divertendosi. Vi aspettiamo numerosi a partire dalle ore 16:00. Raggiungeteci al Parco Pastore\, viale Boschetti\, Castiglione delle Stiviere (MN). NON MANCATE! Venite a scoprire il tema di questo evento; il divertimento è assicurato.\nNon scordarti di controllare periodicamente il sito o seguire la pagina Facebook per essere sempre informato sui migliori eventi!\n
URL:https://solerelax.it/event/tagesmutter-al-parco-pastore-animazione-bambini/
LOCATION:Viale Boschetti 8\, Castiglione Delle Stiviere\, Mantova\, 46043\, Italia
CATEGORIES:Bar al Parco
ATTACH;FMTTYPE=image/jpeg:https://solerelax.it/wp-content/uploads/2017/05/TAGESMUTTER-PASTORE-facebook-3.jpg
END:VEVENT
END:VCALENDAR