BEGIN:VCALENDAR
VERSION:2.0
PRODID:-//Sole Relax - ECPv4.5.13//NONSGML v1.0//EN
CALSCALE:GREGORIAN
METHOD:PUBLISH
X-WR-CALNAME:Sole Relax
X-ORIGINAL-URL:https://solerelax.it
X-WR-CALDESC:Events for Sole Relax
BEGIN:VEVENT
DTSTART;TZID=UTC+0:20170722T200000
DTEND;TZID=UTC+0:20170722T200000
DTSTAMP:20260425T033206
CREATED:20170623T080954Z
LAST-MODIFIED:20170623T080954Z
UID:4024-1500753600-1500753600@solerelax.it
SUMMARY:Sabato de Rumba Parco Pastore - Bar al Parco
DESCRIPTION:Sabato de Rumba Parco Pastore – Tutti i Sabati di Luglio – Bar al Parco Pastore\nSabato 22 Luglio 2017\, si balla al Parco Pastore di Castiglione delle Stiviere! Lo staff Salsa Na Ma e la musica di DJ Teddy vi aspettano… Immersi nello splendido verde del parco si balla! Vi attendono bachata\, balli di gruppo e molto altro… Ma prima non scordarti di cenare con noi! Il Parco Pastore è una location senza eguali per ballare e divertirsi\, e le luci lo rendono ancora più suggestivo e spettacolare. Ti aspettiamo dalle ore 20:00!\nNon scordarti di controllare periodicamente il sito o seguire la pagina Facebook per essere sempre informato sui migliori eventi! \n\n
URL:https://solerelax.it/event/sabato-de-rumba-parco-pastore/
LOCATION:Viale Boschetti 8\, Castiglione Delle Stiviere\, Mantova\, 46043\, Italia
CATEGORIES:Bar al Parco
ATTACH;FMTTYPE=image/jpeg:https://solerelax.it/wp-content/uploads/2017/06/serata-latina-pastore-cena-tutti-i-sabati-di-luglio.jpg
END:VEVENT
END:VCALENDAR