BEGIN:VCALENDAR
VERSION:2.0
PRODID:-//Sole Relax - ECPv4.5.13//NONSGML v1.0//EN
CALSCALE:GREGORIAN
METHOD:PUBLISH
X-WR-CALNAME:Sole Relax
X-ORIGINAL-URL:https://solerelax.it
X-WR-CALDESC:Events for Sole Relax
BEGIN:VEVENT
DTSTART;TZID=UTC+0:20170701T200000
DTEND;TZID=UTC+0:20170701T200000
DTSTAMP:20260425T033340
CREATED:20170623T064048Z
LAST-MODIFIED:20170623T064048Z
UID:4016-1498939200-1498939200@solerelax.it
SUMMARY:Sabato de Rumba - Bar al Parco
DESCRIPTION:Sabato de Rumba – Parco Pastore\nSabato 1 Luglio 2017\, si balla fin dalle 20:00 con l’ottima musica di DJ Teddy. Vieni anche a cenare al parco con noi! Vi aspetta un sabato spettacolare al Parco Pastore di Castiglione delle Stiviere. Immersi nello splendido verde del parco si balla all’aria aperta. Una location senza eguali per ballare e divertirsi. E per i bambini c’è uno splendido parco giochi proprio affianco alla pista da ballo affinchè possano giocare mentre i genitori ballano in tutta tranquillità.\nVieni anche a provare i nostri ottimi drink!\nNon scordarti di controllare periodicamente il sito o seguire la pagina Facebook per essere sempre informato sui migliori eventi! \n\n
URL:https://solerelax.it/event/sabato-de-rumba-bar-al-parco/
LOCATION:Viale Boschetti 8\, Castiglione Delle Stiviere\, Mantova\, 46043\, Italia
CATEGORIES:Bar al Parco
ATTACH;FMTTYPE=image/jpeg:https://solerelax.it/wp-content/uploads/2017/06/serata-latina-pastore-definitiva-cena-ffffffffffzzzzzzzzzzz-1-luglio.jpg
END:VEVENT
END:VCALENDAR