BEGIN:VCALENDAR
VERSION:2.0
PRODID:-//Sole Relax - ECPv4.5.13//NONSGML v1.0//EN
CALSCALE:GREGORIAN
METHOD:PUBLISH
X-WR-CALNAME:Sole Relax
X-ORIGINAL-URL:https://solerelax.it
X-WR-CALDESC:Events for Sole Relax
BEGIN:VEVENT
DTSTART;VALUE=DATE:20171008
DTEND;VALUE=DATE:20171008
DTSTAMP:20260425T033045
CREATED:20170921T122014Z
LAST-MODIFIED:20170921T122014Z
UID:4173-1507420800-1507507199@solerelax.it
SUMMARY:Domenica del Panino e Mercatino al Parco Pastore
DESCRIPTION:Domenica del Panino e Mercatino al Parco Pastore\nDomenica 8 Ottobre vieni al Parco Pastore\, ci trovi a Castiglione delle Stiviere in Viale Boschetti. Dopo un bel giretto fra le bancarelle del mercatino ti aspettiamo anche presso il Bar al Parco per un ottimo panino! Vieni a mangiare con noi e ricorda che gli amici a quattro zampe sono sempre molto ben accetti all’interno del bar\, oltre ad avere un area del parco dedicata esclusivamente a loro. Inoltre i bambini potranno giocare in un area giochi attrezzata. Insomma c’è qualcosa di interessante per ogni membro della famiglia quindi non mancate!!!\nNon scordarti di controllare periodicamente il sito o seguire la pagina Facebook per essere sempre informato sui migliori eventi!\n
URL:https://solerelax.it/event/panino-e-mercatino/
LOCATION:Viale Boschetti 8\, Castiglione Delle Stiviere\, Mantova\, 46043\, Italia
CATEGORIES:Bar al Parco
ATTACH;FMTTYPE=image/jpeg:https://solerelax.it/wp-content/uploads/2017/09/mercatini-9.jpg
END:VEVENT
END:VCALENDAR