BEGIN:VCALENDAR
VERSION:2.0
PRODID:-//Sole Relax - ECPv4.5.13//NONSGML v1.0//EN
CALSCALE:GREGORIAN
METHOD:PUBLISH
X-WR-CALNAME:Sole Relax
X-ORIGINAL-URL:https://solerelax.it
X-WR-CALDESC:Events for Sole Relax
BEGIN:VEVENT
DTSTART;TZID=UTC+0:20170714T210000
DTEND;TZID=UTC+0:20170714T210000
DTSTAMP:20260425T015042
CREATED:20170622T071051Z
LAST-MODIFIED:20170705T145618Z
UID:3986-1500066000-1500066000@solerelax.it
SUMMARY:Noche Latina - Venerdì Estivo - Cala de Or
DESCRIPTION:Noche Latina – Eventi Venerdì Estivo 2017 – Cala de Or\nIl Venerdì estivo 2017 è sempre qui\, Noche Latina a Cala de Or! Per tutti i Venerdi di Luglio vi aspettiamo a ballare in spiaggia. Dj Teddy ed il ritmo della sua musica ci terranno compagnia per tutta la serata mentre l’animazione dello staff Salsa Na Ma ci farà ballare. Sono previsti molti balli di gruppo e non solo… Vi aspettiamo sempre più numerosi per divertirci assieme!\nCi troviamo a Desenzano del Garda\, presso la località Spiaggia d’Oro\, in Via Zamboni.\nNon scordarti di controllare periodicamente il sito o seguire la pagina Facebook per essere sempre informato sui migliori eventi!\n
URL:https://solerelax.it/event/noche-latina-venerdi-estivo/
LOCATION:Via Zamboni - Loc. Spiaggia d'Oro\, Desenzano del Garda\, Brescia\, 25015\, Italia
CATEGORIES:Bar Cala de Or
ATTACH;FMTTYPE=image/jpeg:https://solerelax.it/wp-content/uploads/2017/06/serata-latina-luglio-con-cena-e-prenotazione.jpg
END:VEVENT
END:VCALENDAR