BEGIN:VCALENDAR
VERSION:2.0
PRODID:-//Sole Relax - ECPv4.5.13//NONSGML v1.0//EN
CALSCALE:GREGORIAN
METHOD:PUBLISH
X-WR-CALNAME:Sole Relax
X-ORIGINAL-URL:https://solerelax.it
X-WR-CALDESC:Events for Sole Relax
BEGIN:VEVENT
DTSTART;TZID=UTC+0:20170728T210000
DTEND;TZID=UTC+0:20170728T210000
DTSTAMP:20260425T015040
CREATED:20170622T140534Z
LAST-MODIFIED:20170622T140534Z
UID:4004-1501275600-1501275600@solerelax.it
SUMMARY:Noche Latina - Ultima notte di Luglio - Cala de Or
DESCRIPTION:Noche Latina – Ultima notte di Luglio a Cala de Or\nCome ogni Venerdì vi aspettiamo per la Noche Latina a Cala de Or! Purtoppo siamo giunti all’ultimo Venerdì di Luglio\, ma vi aspettiamo ancora più numerosi a ballare in spiaggia per l’ultimo Venerdì del mese. Dj Teddy è pronto a mixare per voi le canzoni migliori per darvi la musica e il ritmo che desiderate tanto. Nel frattempo l’animazione dello staff Salsa Na Ma\, vi guiderà in balli di gruppo e non solo… Venite a cercare di convincerci a regalarvi altre notti anche il prossimo mese!\nCi troviamo a Desenzano del Garda\, presso la località Spiaggia d’Oro\, in Via Zamboni.\nNon scordarti di controllare periodicamente il sito o seguire la pagina Facebook per essere sempre informato sui migliori eventi!\n
URL:https://solerelax.it/event/noche-latina-ultima-notte-luglio/
LOCATION:Via Zamboni - Loc. Spiaggia d'Oro\, Desenzano del Garda\, Brescia\, 25015\, Italia
CATEGORIES:Bar Cala de Or
ATTACH;FMTTYPE=image/jpeg:https://solerelax.it/wp-content/uploads/2017/06/serata-latina-23-giugno.jpg
END:VEVENT
END:VCALENDAR