BEGIN:VCALENDAR
VERSION:2.0
PRODID:-//Sole Relax - ECPv4.5.13//NONSGML v1.0//EN
CALSCALE:GREGORIAN
METHOD:PUBLISH
X-WR-CALNAME:Sole Relax
X-ORIGINAL-URL:https://solerelax.it
X-WR-CALDESC:Events for Sole Relax
BEGIN:VEVENT
DTSTART;TZID=UTC+0:20170806T170000
DTEND;TZID=UTC+0:20170806T170000
DTSTAMP:20260425T000502
CREATED:20170803T100349Z
LAST-MODIFIED:20170803T100349Z
UID:4073-1502038800-1502038800@solerelax.it
SUMMARY:Moonlight Party - Cala de Or
DESCRIPTION:Moonlight Party\nDomenica 6 Giugno un grande Beach Party ti aspetta a Cala de Or! Dalle 17:00 in console DJ Yasel con ottima musica da ballare ci accompagnerà fino all’aperitivo\, che si potrà fare comodamente rilassati in spiaggia. Poi si prosegue con la cena; sempre senza mai smettere di ballare arriveremo alle 23:00 quando si vedranno i fuochi d’artificio. E per finire riprenderemo a ballare insieme! Ti aspettiamo al Moonlight Party presso Cala de Or\, a Desenzano del Garda in via Zamboni\, località Spiaggia d’Oro.\nNon scordarti di controllare periodicamente il sito o seguire la pagina Facebook per essere sempre informato sui migliori eventi!\n
URL:https://solerelax.it/event/moonlight-party/
LOCATION:Via Zamboni - Loc. Spiaggia d'Oro\, Desenzano del Garda\, Brescia\, 25015\, Italia
CATEGORIES:Bar Cala de Or
ATTACH;FMTTYPE=image/jpeg:https://solerelax.it/wp-content/uploads/2017/08/moonlight-orizzontale.jpg
END:VEVENT
END:VCALENDAR