BEGIN:VCALENDAR
VERSION:2.0
PRODID:-//Sole Relax - ECPv4.5.13//NONSGML v1.0//EN
CALSCALE:GREGORIAN
METHOD:PUBLISH
X-WR-CALNAME:Sole Relax
X-ORIGINAL-URL:https://solerelax.it
X-WR-CALDESC:Events for Sole Relax
BEGIN:VEVENT
DTSTART;TZID=UTC+0:20171022T000000
DTEND;TZID=UTC+0:20171022T000000
DTSTAMP:20260425T015042
CREATED:20170921T125910Z
LAST-MODIFIED:20171020T160837Z
UID:4178-1508630400-1508630400@solerelax.it
SUMMARY:Mercatino e Panini Domenica al Parco
DESCRIPTION:Mercatino e Panini Domenica al Parco\nEVENTO ANNULLATO\, VI ASPETTIAMO DOMENICA 5 NOVEMBRE \nDomenica 22 Ottobre vieni al Parco Pastore\, ci trovi a Castiglione delle Stiviere in Viale Boschetti. Tante bancarelle tutte da osservare\, piene di bellissimi prodotti ti attendono al mercatino\, che si estende lungo i sentieri del parco. Dopo di ché vieni a mangiare con noi presso il Bar del Parco; e ricorda che gli amici a quattro zampe sono sempre molto ben accetti all’interno del bar\, oltre ad avere un area del parco dedicata esclusivamente a loro. Inoltre i bambini potranno giocare in un area giochi attrezzata. Insomma c’è qualcosa di interessante per ogni membro della famiglia quindi non mancate!!! Vieni a provare i nostri panini!\nNon scordarti di controllare periodicamente il sito o seguire la pagina Facebook per essere sempre informato sui migliori eventi!\n
URL:https://solerelax.it/event/mercatino-panini-domenica-al-parco/
LOCATION:Viale Boschetti 8\, Castiglione Delle Stiviere\, Mantova\, 46043\, Italia
CATEGORIES:Bar al Parco
ATTACH;FMTTYPE=image/jpeg:https://solerelax.it/wp-content/uploads/2017/09/mercatini-10-light.jpg
END:VEVENT
END:VCALENDAR