BEGIN:VCALENDAR
VERSION:2.0
PRODID:-//Sole Relax - ECPv4.5.13//NONSGML v1.0//EN
CALSCALE:GREGORIAN
METHOD:PUBLISH
X-WR-CALNAME:Sole Relax
X-ORIGINAL-URL:https://solerelax.it
X-WR-CALDESC:Events for Sole Relax
BEGIN:VEVENT
DTSTART;TZID=UTC+0:20170819T213000
DTEND;TZID=UTC+0:20170819T213000
DTSTAMP:20260425T015031
CREATED:20170804T144534Z
LAST-MODIFIED:20170804T144534Z
UID:4111-1503178200-1503178200@solerelax.it
SUMMARY:Lost Innocent - Live Music Parco Pastore
DESCRIPTION:Lost Innocent\nSabato 19 Agosto suoneranno Live al Parco Pastore i Lost Innocent; una band emergente attiva da circa 4 anni che spazia in vari generi: dal rock\, blues al pop italiano e internazionale. Un grande repertorio pronto per intrattenervi a lungo; creato grazie alla provenienza di ogni componente della band da un genere diverso. Ogni brano eseguito viene riarrangiato a seconda del gusto dei vari componenti per dare alla musica uno spirito innovativo e inedito.\nVi aspettiamo in viale Boschetti a Castiglione delle Stiviere (MN).\nNon scordarti di controllare periodicamente il sito o seguire la pagina Facebook per essere sempre informato sui migliori eventi! \n\n
URL:https://solerelax.it/event/lost-innocent-live-music-parco-pastore/
LOCATION:Viale Boschetti 8\, Castiglione Delle Stiviere\, Mantova\, 46043\, Italia
CATEGORIES:Bar al Parco
ATTACH;FMTTYPE=image/jpeg:https://solerelax.it/wp-content/uploads/2017/08/Senza-titolo-5-orizz.jpg
END:VEVENT
END:VCALENDAR