BEGIN:VCALENDAR
VERSION:2.0
PRODID:-//Sole Relax - ECPv4.5.13//NONSGML v1.0//EN
CALSCALE:GREGORIAN
METHOD:PUBLISH
X-WR-CALNAME:Sole Relax
X-ORIGINAL-URL:https://solerelax.it
X-WR-CALDESC:Events for Sole Relax
BEGIN:VEVENT
DTSTART;TZID=UTC+0:20170707T210000
DTEND;TZID=UTC+0:20170707T210000
DTSTAMP:20260425T033338
CREATED:20170622T074417Z
LAST-MODIFIED:20170622T074417Z
UID:3989-1499461200-1499461200@solerelax.it
SUMMARY:Karaoke Mania - Tutti i Venerdì - Bar al Parco
DESCRIPTION:Karaoke Mania – Tutti i Venerdì\nVenerdì 7 Luglio al Parco Pastore giungiamo già al terzo appuntamento. Ti aspettiamo\, come tutti i Venerdì\, a partire dalle 21:00! Vieni a divertirti e cantare le tue canzoni preferite con Diego Frera. Non mancare\, con noi ti divertirai sicuramente; per trascorrere uno stupendo Venerdì sera a Castiglione\, non esiste evento migliore del Karaoke\, e per cantare\, non esiste posto migliore del Parco Pastore; quindi tutti i Venerdì non scordarti di venire al Parco Pastore\, viale Boschetti\, Castiglione delle Stiviere.\nNon scordarti di controllare periodicamente il sito o seguire la pagina Facebook per essere sempre informato sui migliori eventi! \n\n
URL:https://solerelax.it/event/karaoke-mania-tutti-venerdi/
LOCATION:Viale Boschetti 8\, Castiglione Delle Stiviere\, Mantova\, 46043\, Italia
CATEGORIES:Bar al Parco
ATTACH;FMTTYPE=image/jpeg:https://solerelax.it/wp-content/uploads/2017/06/karaoke-3.jpg
END:VEVENT
END:VCALENDAR