BEGIN:VCALENDAR
VERSION:2.0
PRODID:-//Sole Relax - ECPv4.5.13//NONSGML v1.0//EN
CALSCALE:GREGORIAN
METHOD:PUBLISH
X-WR-CALNAME:Sole Relax
X-ORIGINAL-URL:https://solerelax.it
X-WR-CALDESC:Events for Sole Relax
BEGIN:VEVENT
DTSTART;TZID=UTC+0:20260308T160000
DTEND;TZID=UTC+0:20260308T200000
DTSTAMP:20260421T085553
CREATED:20260218T135004Z
LAST-MODIFIED:20260218T135004Z
UID:7671-1772985600-1773000000@solerelax.it
SUMMARY:Karaoke Festa della Donna - Domenica 8 Marzo
DESCRIPTION:Karaoke Festa della Donna – Domenica 8 Marzo al Kiosco Desenzani\nDomenica 8 Marzo dalle ore 16:00\, il Kiosco Desenzani di Castiglione delle Stiviere ospita uno speciale evento Karaoke in occasione della Festa della Donna\, con animazione a cura di Alexander Walther. Un pomeriggio dedicato alla musica\, alla condivisione e alla voglia di stare insieme in un’atmosfera festosa e coinvolgente. \nL’evento Karaoke dell’8 Marzo rappresenta un’occasione perfetta per celebrare questa giornata con leggerezza e divertimento\, attraverso la musica e la partecipazione attiva del pubblico. Il format è aperto a tutti: gruppi di amici\, famiglie e chiunque voglia salire sul palco per cantare la propria canzone preferita. \nGrazie al sistema digitale di prenotazione brani tramite app\, ogni partecipante potrà scegliere il proprio pezzo direttamente dallo smartphone e visualizzare i testi durante l’esibizione. Questo rende il Karaoke al Kiosco Desenzani un evento moderno\, dinamico e accessibile. \nSituato in Via Zanardelli a Castiglione delle Stiviere (MN)\, il Kiosco Desenzani è una location ideale per eventi musicali all’aperto\, grazie al suo contesto immerso nel verde e alla sua atmosfera accogliente. Negli ultimi anni è diventato un punto di riferimento per chi cerca eventi di musica dal vivo\, intrattenimento e momenti di aggregazione nel territorio. \nL’ingresso è libero\, permettendo a tutti di partecipare e vivere un pomeriggio di festa. Che si tratti di cantare\, ascoltare o semplicemente godersi l’ambiente\, il Karaoke dell’8 Marzo è pensato per offrire un’esperienza coinvolgente e spensierata. \nSe stai cercando un evento per la Festa della Donna a Castiglione delle Stiviere\, un Karaoke pomeridiano o un’occasione per festeggiare in modo originale\, il Kiosco Desenzani ti aspetta. \nPer informazioni: 370 316 2175 \n
URL:https://solerelax.it/event/karaoke-festa-della-donna-domenica-8-marzo/
LOCATION:via Zanardelli\, Castiglione delle Stiviere\, 46043\, Italia
CATEGORIES:K.des Kiosco Desenzani
ATTACH;FMTTYPE=image/jpeg:https://solerelax.it/wp-content/uploads/2026/02/Karaoke-Festa-della-Donna-DOMENICA-8-MARZO-al-K.DES_.jpg
END:VEVENT
END:VCALENDAR