BEGIN:VCALENDAR
VERSION:2.0
PRODID:-//Sole Relax - ECPv4.5.13//NONSGML v1.0//EN
CALSCALE:GREGORIAN
METHOD:PUBLISH
X-WR-CALNAME:Sole Relax
X-ORIGINAL-URL:https://solerelax.it
X-WR-CALDESC:Events for Sole Relax
BEGIN:VEVENT
DTSTART;VALUE=DATE:20170520
DTEND;VALUE=DATE:20170521
DTSTAMP:20260425T132134
CREATED:20170519T123415Z
LAST-MODIFIED:20170519T123415Z
UID:3877-1495238400-1495411199@solerelax.it
SUMMARY:Gonfiabili - Milky Bar
DESCRIPTION:Gonfiabili – Milky Bar\nUn grande evento ormai caratteristico del Milky Bar\, che richiama sempre tanti bambini\, tornano i GONFIABILI! Sabato 20 e Domenica 21 Maggio\, vi aspettiamo presso il Parco Laghetto di Desenzano del Garda.\nI bambini potranno divertirsi anche nell’area giochi o nei numerosi campi attrezzati per lo sport. Contiamo ben due campi da basket\, uno da calcetto\, un area per il pattinaggio ed uno skate park. I genitori potranno rilassarsi comodamente al bar sorvegliando senza problemi i bambini.\nPer passare un weekend all’aria aperta\, immersi nel verde\, il Milky Bar è il luogo ideale.\nNon scordarti di controllare periodicamente il sito o seguire la pagina Facebook per essere sempre informato sui migliori eventi!\n
URL:https://solerelax.it/event/gonfiabili-milky-bar/
LOCATION:Via Giotto 98\, Desenzano del Garda\, Brescia\, 25015\, Italia
CATEGORIES:Bar Milky
ATTACH;FMTTYPE=image/jpeg:https://solerelax.it/wp-content/uploads/2017/05/gonfiabili-milky-bar-2017-MAGGIO-20-21-leggero.jpg
END:VEVENT
END:VCALENDAR