BEGIN:VCALENDAR
VERSION:2.0
PRODID:-//Sole Relax - ECPv4.5.13//NONSGML v1.0//EN
CALSCALE:GREGORIAN
METHOD:PUBLISH
X-WR-CALNAME:Sole Relax
X-ORIGINAL-URL:https://solerelax.it
X-WR-CALDESC:Events for Sole Relax
BEGIN:VEVENT
DTSTART;TZID=UTC+0:20170917T160000
DTEND;TZID=UTC+0:20170917T230000
DTSTAMP:20260424T222744
CREATED:20170905T094855Z
LAST-MODIFIED:20170911T090830Z
UID:4136-1505664000-1505689200@solerelax.it
SUMMARY:Festa di chiusura di stagione - Cala de Or
DESCRIPTION:Festa di chiusura di stagione\nGrande festa per la chiusura di stagione del nostro bar\, vi aspettiamo a Cala de Or con la musica di Dj Yasel da ballare e l’animazione di Tati e Erika. Per tutta la durata dell’evento Mojito a 5€\, non mancate! Un Sabato sera incredibile da passare in spiaggia\, ad un passo dall’acqua del lago\, tra balli\, musica ed ottimi cocktail. L’intero Staff freme dalla voglia di divertirsi con voi\, più saremo numerosi più ci divertiremo!\nCi trovate in via Zamboni\, Desenzano del Garda\, Loc. Spiaggia d’Oro.\nNon scordarti di controllare periodicamente il sito o seguire la pagina Facebook per essere sempre informato sui migliori eventi!\n
URL:https://solerelax.it/event/festa-di-chiusura-di-stagione-cala-de-or/
LOCATION:Via Zamboni - Loc. Spiaggia d'Oro\, Desenzano del Garda\, Brescia\, 25015\, Italia
CATEGORIES:Bar Cala de Or
ATTACH;FMTTYPE=image/jpeg:https://solerelax.it/wp-content/uploads/2017/09/21232116_912862292210612_3700950559872321700_n-2.jpg
END:VEVENT
END:VCALENDAR