BEGIN:VCALENDAR
VERSION:2.0
PRODID:-//Sole Relax - ECPv4.5.13//NONSGML v1.0//EN
CALSCALE:GREGORIAN
METHOD:PUBLISH
X-WR-CALNAME:Sole Relax
X-ORIGINAL-URL:https://solerelax.it
X-WR-CALDESC:Events for Sole Relax
BEGIN:VEVENT
DTSTART;TZID=UTC+0:20220828T150000
DTEND;TZID=UTC+0:20220828T200000
DTSTAMP:20260421T004603
CREATED:20220823T063120Z
LAST-MODIFIED:20220823T063120Z
UID:5503-1661698800-1661716800@solerelax.it
SUMMARY:Domenica on the Beach - Cala de Or
DESCRIPTION:
URL:https://solerelax.it/event/domenica-the-beach-cala-de-or-5/
LOCATION:Via Zamboni - Loc. Spiaggia d'Oro\, Desenzano del Garda\, Brescia\, 25015\, Italia
CATEGORIES:Bar Cala de Or
ATTACH;FMTTYPE=image/jpeg:https://solerelax.it/wp-content/uploads/2022/06/domenica-on-the-beach-cala-de-or-.jpg
END:VEVENT
END:VCALENDAR