BEGIN:VCALENDAR
VERSION:2.0
PRODID:-//Sole Relax - ECPv4.5.13//NONSGML v1.0//EN
CALSCALE:GREGORIAN
METHOD:PUBLISH
X-WR-CALNAME:Sole Relax
X-ORIGINAL-URL:https://solerelax.it
X-WR-CALDESC:Events for Sole Relax
BEGIN:VEVENT
DTSTART;VALUE=DATE:20170924
DTEND;VALUE=DATE:20170924
DTSTAMP:20260425T015155
CREATED:20170921T081641Z
LAST-MODIFIED:20170921T081641Z
UID:4167-1506211200-1506211200@solerelax.it
SUMMARY:Domenica del Panino al Parco Pastore
DESCRIPTION:Domenica del Panino al Parco Pastore\nDomenica 24 Settembre vieni al Parco Pastore\, ci trovi a Castiglione delle Stiviere in Viale Boschetti. Ti aspettiamo presso il Bar al Parco per uno dei nostri ottimi panini\, ma perchè no\, anche più di uno! Una Domenica immersi nel verde\, mentre i bambini giocano liberi nel parco o nell’area giochi attrezzata e senza neppure il pensiero di dover preparare il pranzo… potrete mangiare comodamente seduti al bar!\nUna rilassante Domenica dall’atmosfera autunnale capace di far divertire i vostri bambini.\nNon scordarti di controllare periodicamente il sito o seguire la pagina Facebook per essere sempre informato sui migliori eventi!\n
URL:https://solerelax.it/event/domenica-del-panino-al-parco-pastore/
LOCATION:Viale Boschetti 8\, Castiglione Delle Stiviere\, Mantova\, 46043\, Italia
CATEGORIES:Bar al Parco
ATTACH;FMTTYPE=image/jpeg:https://solerelax.it/wp-content/uploads/2017/09/web-domenica-del-panino-al-parco.jpg
END:VEVENT
END:VCALENDAR