BEGIN:VCALENDAR
VERSION:2.0
PRODID:-//Sole Relax - ECPv4.5.13//NONSGML v1.0//EN
CALSCALE:GREGORIAN
METHOD:PUBLISH
X-WR-CALNAME:Sole Relax
X-ORIGINAL-URL:https://solerelax.it
X-WR-CALDESC:Events for Sole Relax
BEGIN:VEVENT
DTSTART;TZID=UTC+0:20170827T160000
DTEND;TZID=UTC+0:20170827T160000
DTSTAMP:20260425T014651
CREATED:20170804T081121Z
LAST-MODIFIED:20170804T081121Z
UID:4109-1503849600-1503849600@solerelax.it
SUMMARY:Crazy Sunday Agosto - Cala de Or
DESCRIPTION:Crazy Sunday Agosto- Cala de Or\nDomenica 27 Agosto vi aspettiamo per la Crazy Sunday; Una Domenica con Diego Frera Dj in console\, mentre vi rilassate in spiaggia. Tante ore di ottima musica a partire dalle ore 16:00\, che potrete godervi anche comodamente sdraiati sui lettini. Poi tutti al bar per l’APERITIVO! Divertimento assicurato dal nostro mitico Dj Frera! Ti aspettiamo a Cala De Or per un aperitivo epico! Ci trovi in via Zamboni\, a Desenzano del Garda\, località Spiaggia d’oro.\nNon scordarti di controllare periodicamente il sito o seguire la pagina Facebook per essere sempre informato sui migliori eventi!\n
URL:https://solerelax.it/event/crazy-sunday-agosto-2/
LOCATION:Via Zamboni - Loc. Spiaggia d'Oro\, Desenzano del Garda\, Brescia\, 25015\, Italia
CATEGORIES:Bar Cala de Or
ATTACH;FMTTYPE=image/jpeg:https://solerelax.it/wp-content/uploads/2017/08/orizz-crazy-sunday-4.jpg
END:VEVENT
END:VCALENDAR