BEGIN:VCALENDAR
VERSION:2.0
PRODID:-//Sole Relax - ECPv4.5.13//NONSGML v1.0//EN
CALSCALE:GREGORIAN
METHOD:PUBLISH
X-WR-CALNAME:Sole Relax
X-ORIGINAL-URL:https://solerelax.it
X-WR-CALDESC:Events for Sole Relax
BEGIN:VEVENT
DTSTART;TZID=UTC+0:20171112T103000
DTEND;TZID=UTC+0:20171112T103000
DTSTAMP:20260424T222251
CREATED:20171016T144028Z
LAST-MODIFIED:20171016T144028Z
UID:4187-1510482600-1510482600@solerelax.it
SUMMARY:Tra Castagne e vino - Bar al Parco Pastore
DESCRIPTION:Tra Castagne e vino\n“Tra Castagne e vino” è un evento organizzato da Sole Relax che si terrà il 5 ed il 12 Novembre al Parco Pastore di Castiglione delle Stiviere. \nDalle 10:30 castagne\, vino e panini; sempre allo stesso orario verranno aperte le iscrizioni per il torneo di briscola a coppie organizzato in collaborazione con l’associazione “Te sé de Castiù”. Con soli cinque euro di quota di iscrizione avrete anche panino e vino. Avvenimento speciale del 12 Novembre: apertura del vino novello\, una grande tradizione sempre bella da portare avanti.\nNon scordarti di controllare periodicamente il sito o seguire la pagina Facebook per essere sempre informato sui migliori eventi! \n
URL:https://solerelax.it/event/castagne-vino/
LOCATION:Viale Boschetti 8\, Castiglione Delle Stiviere\, Mantova\, 46043\, Italia
CATEGORIES:Bar al Parco
ATTACH;FMTTYPE=image/jpeg:https://solerelax.it/wp-content/uploads/2017/10/castagne-big-tsdc-FILEminimizer.jpg
END:VEVENT
END:VCALENDAR