BEGIN:VCALENDAR
VERSION:2.0
PRODID:-//Sole Relax - ECPv4.5.13//NONSGML v1.0//EN
CALSCALE:GREGORIAN
METHOD:PUBLISH
X-WR-CALNAME:Sole Relax
X-ORIGINAL-URL:https://solerelax.it
X-WR-CALDESC:Events for Sole Relax
BEGIN:VEVENT
DTSTART;TZID=UTC+0:20230416T150000
DTEND;TZID=UTC+0:20230416T200000
DTSTAMP:20260420T085021
CREATED:20230411T135123Z
LAST-MODIFIED:20230411T135146Z
UID:5650-1681657200-1681675200@solerelax.it
SUMMARY:Beach Fun 16 Aprile
DESCRIPTION:
URL:https://solerelax.it/event/beach-fun-16-aprile/
LOCATION:Via Zamboni - Loc. Spiaggia d'Oro\, Desenzano del Garda\, Brescia\, 25015\, Italia
CATEGORIES:Bar Cala de Or
ATTACH;FMTTYPE=image/jpeg:https://solerelax.it/wp-content/uploads/2023/04/beach-fun-tutte-le-domeniche-a-Cala-de-Or-.jpg
END:VEVENT
END:VCALENDAR