BEGIN:VCALENDAR
VERSION:2.0
PRODID:-//Sole Relax - ECPv4.5.13//NONSGML v1.0//EN
CALSCALE:GREGORIAN
METHOD:PUBLISH
X-WR-CALNAME:Sole Relax
X-ORIGINAL-URL:https://solerelax.it
X-WR-CALDESC:Events for Sole Relax
BEGIN:VEVENT
DTSTART;TZID=UTC+0:20171119T103000
DTEND;TZID=UTC+0:20171119T183000
DTSTAMP:20260424T204946
CREATED:20171113T150444Z
LAST-MODIFIED:20171113T153156Z
UID:4193-1511087400-1511116200@solerelax.it
SUMMARY:Arriva la Trippa - Parco Pastore
DESCRIPTION:Tra Castagne e vino… Arriva la Trippa\nSole Relax organizza un altro evento\, il 19 Novembre al Parco Pastore di Castiglione delle Stiviere si terrà “Tra Castagne e Vino… Arriva la Trippa”; che non è niente meno che la seconda parte dell’evento “Tra Castagne e Vino” che si è tenuto questo Novembre!.\nDalle 10:30 si inizia con castagne\, vino e panini ma anche TRIPPA!!! Pranza con noi immerso nella splendida atmosfera del parco\, riscaldata da castagne fumanti. Ti aspettiamo con parenti e amici\, pronti a farvi divertire!\nNon scordarti di controllare periodicamente il sito o seguire la pagina Facebook per essere sempre informato sui migliori eventi! \n
URL:https://solerelax.it/event/arriva-la-trippa-parco-pastore/
LOCATION:Viale Boschetti 8\, Castiglione Delle Stiviere\, Mantova\, 46043\, Italia
CATEGORIES:Bar al Parco
ATTACH;FMTTYPE=image/jpeg:https://solerelax.it/wp-content/uploads/2017/11/castagne-19-def-FILEminimizer.jpg
END:VEVENT
END:VCALENDAR