BEGIN:VCALENDAR
VERSION:2.0
PRODID:-//Sole Relax - ECPv4.5.13//NONSGML v1.0//EN
CALSCALE:GREGORIAN
METHOD:PUBLISH
X-WR-CALNAME:Sole Relax
X-ORIGINAL-URL:https://solerelax.it
X-WR-CALDESC:Events for Sole Relax
BEGIN:VEVENT
DTSTART;TZID=UTC+0:20260426T160000
DTEND;TZID=UTC+0:20260426T193000
DTSTAMP:20260424T230247
CREATED:20260424T163135Z
LAST-MODIFIED:20260424T163135Z
UID:7772-1777219200-1777231800@solerelax.it
SUMMARY:26 Aprile Karaoke con Vane e Robi
DESCRIPTION:
URL:https://solerelax.it/event/26-aprile-karaoke-vane-robi/
LOCATION:via Zanardelli\, Castiglione delle Stiviere\, 46043\, Italia
CATEGORIES:K.des Kiosco Desenzani
ATTACH;FMTTYPE=image/jpeg:https://solerelax.it/wp-content/uploads/2026/04/karaoke-kalendario-mod-def-.jpg
END:VEVENT
END:VCALENDAR