BEGIN:VCALENDAR
VERSION:2.0
PRODID:-//Sole Relax - ECPv4.5.13//NONSGML v1.0//EN
CALSCALE:GREGORIAN
METHOD:PUBLISH
X-WR-CALNAME:Sole Relax
X-ORIGINAL-URL:https://solerelax.it
X-WR-CALDESC:Events for Sole Relax
BEGIN:VEVENT
DTSTART;TZID=UTC+0:20260425T160000
DTEND;TZID=UTC+0:20260425T190000
DTSTAMP:20260424T212319
CREATED:20260424T163016Z
LAST-MODIFIED:20260424T163016Z
UID:7769-1777132800-1777143600@solerelax.it
SUMMARY:25 Aprile Live Alcatraz
DESCRIPTION:
URL:https://solerelax.it/event/25-aprile-live-alcatraz/
LOCATION:via Zanardelli\, Castiglione delle Stiviere\, 46043\, Italia
CATEGORIES:K.des Kiosco Desenzani
ATTACH;FMTTYPE=image/jpeg:https://solerelax.it/wp-content/uploads/2026/04/live-alcatraz-25-aprile-e-1-maggio-.jpg
END:VEVENT
END:VCALENDAR